BEGIN:VCALENDAR
VERSION:2.0
PRODID:-//hacksw/handcal//NONSGML v1.0//EN
BEGIN:VEVENT
DTSTAMP:20260820T013000Z
DTSTART:20260820T013000Z
DTEND:20260820T033000Z

SUMMARY:ZZ Top
DESCRIPTION:ZZ Top is coming to Colorado Springs at Pikes Peak Center on Wednesday, August 19, 2026, at 7:30pm! Tickets go on sale on Friday, April 24, at 10am and are available online at AXS.com or in person at the Pikes Peak Center box office.Want the venue presale code? Subscribe to The Backstage Pass newsletter by Tuesday, 4/21, at 5pm Sign up located at PikesPeakCenter.com/Newsletter.embed-container { position: relative; padding-bottom: 56.25%; height: 0; overflow: hidden; max-width: 100%; } .embed-container iframe, .embed-container object, .embed-container embed { position: absolute; top: 0; left: 0; width: 100%; height: 100%; }.embed-container { position: relative; padding-bottom: 56.25%; height: 0; overflow: hidden; max-width: 100%; } .embed-container iframe, .embed-container object, .embed-container embed { position: absolute; top: 0; left: 0; width: 100%; height: 100%; }
END:VEVENT
END:VCALENDAR