BEGIN:VCALENDAR
VERSION:2.0
PRODID:-//hacksw/handcal//NONSGML v1.0//EN
BEGIN:VEVENT
DTSTAMP:20260726T013000Z
DTSTART:20260726T013000Z
DTEND:20260726T033000Z

SUMMARY:Tracy Lawrence
DESCRIPTION:Tracy Lawrence is bringing his No Alibis Tour to Pikes Peak Center on Saturday, July 25, 2026 at 7:30pm! Tickets go on sale on Friday, April 24, at 9am and are available online at AXS.com or in person at the Pikes Peak Center box office. Want the venue presale code? Subscribe to The Backstage Pass newsletter by Tuesday, 4/21, at 5pm. Sign up located at PikesPeakCenter.com/Newsletter About Tracy Lawrence Country hitmaker Tracy Lawrence brings his No Alibis Tour to the stage, celebrating a career that includes 13 million albums sold and 18 No. 1 hits. A CMA and ACM award winner, Lawrence delivers a night packed with fan favorites and new music, including tracks from his latest Out Here In It EP. Don’t miss this chance to see one of country music’s most enduring artists live.
END:VEVENT
END:VCALENDAR