BEGIN:VCALENDAR
VERSION:2.0
PRODID:-//hacksw/handcal//NONSGML v1.0//EN
BEGIN:VEVENT
DTSTAMP:20261021T010000Z
DTSTART:20261021T010000Z
DTEND:20261021T030000Z

SUMMARY:Sixtiesmania
DESCRIPTION:Sixtiesmania is coming to Pikes Peak Center with A Journey Through The &#39;60s on Tuesday, October 20, 2026 at 7:00pm! Tickets go on sale on Friday, April 24, at 10am and are available online at AXS.com or in person at the Pikes Peak Center box office. Want the venue presale code? Subscribe to The Backstage Pass newsletter by Tuesday, 4/21, at 5pm. Sign up located at PikesPeakCenter.com/Newsletter
END:VEVENT
END:VCALENDAR