BEGIN:VCALENDAR
VERSION:2.0
PRODID:-//hacksw/handcal//NONSGML v1.0//EN
BEGIN:VEVENT
DTSTAMP:20260930T013000Z
DTSTART:20260930T013000Z
DTEND:20260930T033000Z

SUMMARY:My Hero Academia
DESCRIPTION:My Hero Academia In Concert is coming to Pikes Peak Center on Tuesday, September 29, 2026 at 7:30pm! Tickets go on sale on Friday, April 24, at 10am and are available online at AXS.com or in person at the Pikes Peak Center box office.Want the venue presale code? Subscribe to The Backstage Pass newsletter by Tuesday, 4/21, at 5pm. Sign up located at PikesPeakCenter.com/Newsletter About My Hero Academia:Join the ultimate celebration of heroism as My Hero Academia In Concert brings a decade of unforgettable moments to life! From Deku’s first steps to the thrilling battles, this live concert experience immerses fans in the anime’s full eight season journey like never before. Set on stage with a powerful 15-piece live band performing Yuki Hayashi’s iconic score, every note captures the triumph, heartbreak, and heroism of the series. The concert seamlessly blends dynamic music with striking visuals of the anime’s most memorable scenes, creating a fully immersive journey that puts fans in the heart of the action. Celebrate 10 years of My Hero Academia as the stage comes alive with epic hero moments, inspiring characters, and “Plus Ultra” energy that resonates with fans of all ages. This is not just a concert, it’s a heroic adventure, a musical tribute, and an emotional journey rolled into one unforgettable musical experience. Whether you’ve been following Deku and Class 1-A since the beginning or are discovering the series for the first time, My Hero Academia In Concert promises an unforgettable evening that honors the legacy of the world’s favorite heroes. Don’t miss your chance to experience this decade-long journey of courage, friendship, and music live on stage..embed-container { position: relative; padding-bottom: 56.25%; height: 0; overflow: hidden; max-width: 100%; } .embed-container iframe, .embed-container object, .embed-container embed { position: absolute; top: 0; left: 0; width: 100%; height: 100%; }
END:VEVENT
END:VCALENDAR