BEGIN:VCALENDAR
VERSION:2.0
PRODID:-//hacksw/handcal//NONSGML v1.0//EN
BEGIN:VEVENT
DTSTAMP:20260601T010000Z
DTSTART:20260601T010000Z
DTEND:20260601T030000Z

SUMMARY:Navy Federal Jams 2026 presents Kane Brown
DESCRIPTION:Navy Federal Jams 2026 presents Kane Brown celebrating Military Appreciation Month with special guest Randall King in Colorado Springs at The Broadmoor World Arena on Sunday, May 31, 2026 at 7:00pm!Tickets go on sale on Friday, March 13, at 9:30am and are available online at AXS.com or in person at the Pikes Peak Center box office (the box office at The Broadmoor World Arena is closed).For complimentary tickets for military members, CLICK HERE  - SOLD OUT (all complimentary military tickets have been claimed)
END:VEVENT
END:VCALENDAR